BEGIN:VCALENDAR
PRODID:-//kirchenweb.ch gmbh//veranstaltungsausgabe v2.0//DE
VERSION:2.0
METHOD:PUBLISH
BEGIN:VEVENT
DTSTART:20260419T090000Z
DTEND:20260419T113000Z
LOCATION:Ev.-ref. Kirche\, Kirchstrasse\, 5712 Beinwil am See
TRANSP:OPAQUE
SEQUENCE:0
UID:7864-veranstaltung@ref-beinwil.ch
DTSTAMP:20260410T082121Z
DESCRIPTION:Kontakt: Heinz Lüscher\n\nWeitere Infos:
  https://www.ref-beinwil.ch/veranstaltung/7864
SUMMARY:Kirchenkaffee
PRIORITY:5
X-MICROSOFT-CDO-IMPORTANCE:1
CLASS:PUBLIC
END:VEVENT
END:VCALENDAR
