BEGIN:VCALENDAR
PRODID:-//kirchenweb.ch gmbh//veranstaltungsausgabe v2.0//DE
VERSION:2.0
METHOD:PUBLISH
BEGIN:VEVENT
DTSTART:20260607T090000Z
DTEND:20260607T100000Z
LOCATION:Ev.-ref. Kirche\, Kirchstrasse\, 5712 Beinwil am See
TRANSP:OPAQUE
SEQUENCE:0
UID:7862-veranstaltung@ref-beinwil.ch
DTSTAMP:20260326T101120Z
DESCRIPTION:Kontakt: Micha Baumgartner\n\nWeitere Infos:
  https://www.ref-beinwil.ch/veranstaltung/7862
SUMMARY:Tauffeier
PRIORITY:5
X-MICROSOFT-CDO-IMPORTANCE:1
CLASS:PUBLIC
END:VEVENT
END:VCALENDAR
