BEGIN:VCALENDAR
PRODID:-//kirchenweb.ch gmbh//veranstaltungsausgabe v2.0//DE
VERSION:2.0
METHOD:PUBLISH
BEGIN:VEVENT
DTSTART:20260430T050000Z
DTEND:20260430T060000Z
LOCATION:Ev.-ref. Kirche\, Kirchstrasse\, 5712 Beinwil am See
TRANSP:OPAQUE
SEQUENCE:0
UID:7849-veranstaltung@ref-beinwil.ch
DTSTAMP:20260410T082516Z
DESCRIPTION:Kontakt: Mark Schwyter 079 629 08 22\nNimm vom Friedhof her
  den Seiteneingang beim Turm\, Treppe hoch \n\nWeitere Infos:
  https://www.ref-beinwil.ch/veranstaltung/7849
SUMMARY:Morgensingen
PRIORITY:5
X-MICROSOFT-CDO-IMPORTANCE:1
CLASS:PUBLIC
END:VEVENT
END:VCALENDAR
