BEGIN:VCALENDAR
PRODID:-//kirchenweb.ch gmbh//veranstaltungsausgabe v2.0//DE
VERSION:2.0
METHOD:PUBLISH
BEGIN:VEVENT
DTSTART:20260423T050000Z
DTEND:20260423T060000Z
LOCATION:Ev.-ref. Kirche\, Kirchstrasse\, 5712 Beinwil am See
TRANSP:OPAQUE
SEQUENCE:0
UID:7848-veranstaltung@ref-beinwil.ch
DTSTAMP:20260410T082359Z
DESCRIPTION:Kontakt: Mark Schwyter 079 629 08 22\nNimm vom Friedhof her
  den Seiteneingang beim Turn\, Treppe hoch \n\n\n\nWeitere Infos:
  https://www.ref-beinwil.ch/veranstaltung/7848
SUMMARY:Morgensingen
PRIORITY:5
X-MICROSOFT-CDO-IMPORTANCE:1
CLASS:PUBLIC
END:VEVENT
END:VCALENDAR
