BEGIN:VCALENDAR
PRODID:-//kirchenweb.ch gmbh//veranstaltungsausgabe v2.0//DE
VERSION:2.0
METHOD:PUBLISH
BEGIN:VEVENT
DTSTART:20261213T090000Z
DTEND:20261213T100000Z
LOCATION:Ref. Kirche\, Rankstrasse 7\, 5708 Birrwil
TRANSP:OPAQUE
SEQUENCE:0
UID:7834-veranstaltung@ref-beinwil.ch
DTSTAMP:20260211T081922Z
DESCRIPTION:Kontakt: Micha Baumgartner\n\nWeitere Infos:
  https://www.ref-beinwil.ch/veranstaltung/7834
SUMMARY:Gottesdienst zum 3. Advent in Birrwil
PRIORITY:5
X-MICROSOFT-CDO-IMPORTANCE:1
CLASS:PUBLIC
END:VEVENT
END:VCALENDAR
