BEGIN:VCALENDAR
PRODID:-//kirchenweb.ch gmbh//veranstaltungsausgabe v2.0//DE
VERSION:2.0
METHOD:PUBLISH
BEGIN:VEVENT
DTSTART:20260517T080000Z
DTEND:20260517T090000Z
LOCATION:Ref. Kirche\, Rankstrasse 7\, 5708 Birrwil
TRANSP:OPAQUE
SEQUENCE:0
UID:7737-veranstaltung@ref-beinwil.ch
DTSTAMP:20251206T152632Z
DESCRIPTION:Kontakt: Bernhard Lüthi\n\nWeitere Infos:
  https://www.ref-beinwil.ch/veranstaltung/7737
SUMMARY:Familiengottesdienst in Birrwil
PRIORITY:5
X-MICROSOFT-CDO-IMPORTANCE:1
CLASS:PUBLIC
END:VEVENT
END:VCALENDAR
