BEGIN:VCALENDAR
PRODID:-//kirchenweb.ch gmbh//veranstaltungsausgabe v2.0//DE
VERSION:2.0
METHOD:PUBLISH
BEGIN:VEVENT
DTSTART:20260423T160000Z
DTEND:20260423T170000Z
LOCATION:Ev.-ref. Kirchgemeindehaus\, Kirchstrasse\, 5712 Beinwil am See
TRANSP:OPAQUE
SEQUENCE:0
UID:7475-veranstaltung@ref-beinwil.ch
DTSTAMP:20250610T111049Z
DESCRIPTION:Kontakt: Andrea Kwiring-Suter\n\nWeitere Infos:
  https://www.ref-beinwil.ch/veranstaltung/7475
SUMMARY:Blockunterricht 8. Klasse (PH4)
PRIORITY:5
X-MICROSOFT-CDO-IMPORTANCE:1
CLASS:PUBLIC
END:VEVENT
END:VCALENDAR
