BEGIN:VCALENDAR
PRODID:-//kirchenweb.ch gmbh//veranstaltungsausgabe v2.0//DE
VERSION:2.0
METHOD:PUBLISH
BEGIN:VEVENT
DTSTART:20260422T080000Z
DTEND:20260422T090000Z
LOCATION:Ev.-ref. Kirche\, Kirchstrasse\, 5712 Beinwil am See
TRANSP:OPAQUE
SEQUENCE:0
UID:7433-veranstaltung@ref-beinwil.ch
DTSTAMP:20250602T151539Z
DESCRIPTION:Kontakt: SD Andrea Kwiring-Suter\n\nWeitere Infos:
  https://www.ref-beinwil.ch/veranstaltung/7433
SUMMARY:Mini-Gottesdienst (PH1)
PRIORITY:5
X-MICROSOFT-CDO-IMPORTANCE:1
CLASS:PUBLIC
END:VEVENT
END:VCALENDAR
