BEGIN:VCALENDAR
PRODID:-//kirchenweb.ch gmbh//veranstaltungsausgabe v2.0//DE
VERSION:2.0
METHOD:PUBLISH
BEGIN:VEVENT
DTSTART:20251218T123000Z
DTEND:20251218T160000Z
LOCATION:Ev.-ref. Kirche\, Kirchstrasse\, 5712 Beinwil am See
TRANSP:OPAQUE
SEQUENCE:0
UID:7263-veranstaltung@ref-beinwil.ch
DTSTAMP:20250404T083529Z
DESCRIPTION:Kontakt: Heinz Lüscher\n\nWeitere Infos:
  https://www.ref-beinwil.ch/veranstaltung/7263
SUMMARY:Jass\, Spiel - und Diskussionsnachmittag
PRIORITY:5
X-MICROSOFT-CDO-IMPORTANCE:1
CLASS:PUBLIC
END:VEVENT
END:VCALENDAR
