BEGIN:VCALENDAR
PRODID:-//kirchenweb.ch gmbh//veranstaltungsausgabe v2.0//DE
VERSION:2.0
METHOD:PUBLISH
BEGIN:VEVENT
DTSTART:20250817T120000Z
DTEND:20250817T140000Z
LOCATION:Ev.-ref. Kirche\, Kirchstrasse\, 5712 Beinwil am See
TRANSP:OPAQUE
SEQUENCE:0
UID:7086-veranstaltung@ref-beinwil.ch
DTSTAMP:20250808T092741Z
DESCRIPTION:Kontakt: Andrea Kwiring\, Kirchstarsse 29\, 5712 Beinwil am
  See 079 645 80 89\nBernhard Lüthi\, Weingartstrasse 33 5712 Beinwil am
  See 062 772 06 00\n\n\nAndrea Kwiring-Suter\nAndrea Kwiring-Suter\n
 \nWeitere Infos: https://www.ref-beinwil.ch/veranstaltung/7086
SUMMARY:Bibel-Detektive Junior\, 1. Fall (Kiga- 2. Klasse)
PRIORITY:5
X-MICROSOFT-CDO-IMPORTANCE:1
CLASS:PUBLIC
END:VEVENT
END:VCALENDAR
