BEGIN:VCALENDAR
PRODID:-//kirchenweb.ch gmbh//veranstaltungsausgabe v2.0//DE
VERSION:2.0
METHOD:PUBLISH
BEGIN:VEVENT
DTSTART:20251224T153000Z
DTEND:20251224T163000Z
LOCATION:Ev.-ref. Kirche\, Kirchstrasse\, 5712 Beinwil am See
TRANSP:OPAQUE
SEQUENCE:0
UID:6066-veranstaltung@ref-beinwil.ch
DTSTAMP:20251218T153154Z
DESCRIPTION:Kontakt: Andrea Kwiring-Suter\n\nWeitere Infos:
  https://www.ref-beinwil.ch/veranstaltung/6066
SUMMARY:Krippenspiel (PH1/PH2)
PRIORITY:5
X-MICROSOFT-CDO-IMPORTANCE:1
CLASS:PUBLIC
END:VEVENT
END:VCALENDAR
